Workbook

Sheet Реєстр

Sheet Населення
A1: 3
A2: Додаток 1
A3: до рішення виконавчого комітету
A4: від _____________2018 р. № ______
A5: Скориговані тарифи на теплову енергію, вироблену котельнями з використанням природного газу, яку надає КП "Теплокомуненерго" для населення
A6: Показники | B6: Для потреб населення
B7: тис.грн./ на рік | C7: грн./Гкал
A8: 1 | B8: 2 | C8: 3
A9: 1. Повна планова собівартість, всього: | B9: =B10+B22 -> 126282.81 | C9: 1135.26
A10: 1.1. Прямі витрати, в тому числі: | B10: =B11+B17 -> 125874.84 | C10: =C11+C17 -> 1131.5909
A11: 1.1.1. Матеріальні витрати: | B11: =B12+B13+B14+B15+B16 -> 109277.29 | C11: 982.382
A12: - природний газ | B12: =[1]Виконком!D9 -> 97635.94 | C12: =B12/$B$51*1000 -> 877.72899
A13: - електрична енергія | B13: =[1]Виконком!D10 -> 10018.16 | C13: =B13/$B$51*1000 -> 90.0614
A14: - собівартість КГУ | B14: =[1]Виконком!D11 -> 0 | C14: =B14/$B$51*1000 -> 0
A15: - вода і водовідведення | B15: =[1]Виконком!D12 -> 717.47 | C15: =B15/$B$51*1000 -> 6.4499222
A16: - матеріали для забезп. техн. процесу (х/р) | B16: =[1]Виконком!D13 -> 905.72 | C16: =B16/$B$51*1000 -> 8.1422548
A17: 1.2. Інші прямі витрати: | B17: =B18+B19+B20+B21 -> 16597.55 | C17: =C18+C19+C20+C21 -> 149.2089
A18: - оплата праці | B18: =[1]Виконком!D15 -> 11666.76 | C18: =B18/$B$51*1000 -> 104.88201
A19: - відрахування на соціальні заходи | B19: =[1]Виконком!D16 -> 2566.69 | C19: =B19/$B$51*1000 -> 23.074067
A20: - амортизаційні відрахування | B20: =[1]Виконком!D17 -> 1344.54 | C20: =B20/$B$51*1000 -> 12.087165
A21: - інші прямі витрати: | B21: =[1]Виконком!D18 -> 1019.56 | C21: =B21/$B$51*1000 -> 9.1656553
A22: 2. Загальновиробничі витрати, всього: | B22: =B23+B24+B25+B26+B27+B28+B29 -> 407.97 | C22: 3.669
A23: - оплата праці | B23: =[1]Виконком!D20 -> 310.21 | C23: =B23/$B$51*1000 -> 2.7887304
A24: - відрахування на соціальні заходи | B24: =[1]Виконком!D21 -> 68.25 | C24: =B24/$B$51*1000 -> 0.61355484
A25: - амортизаційні відрахування | B25: =[1]Виконком!D22 -> 3.52 | C25: =B25/$B$51*1000 -> 0.031644147
A26: - електрична енергія | B26: =[1]Виконком!D23 -> 0.03 | C26: =B26/$B$51*1000 -> 0.00026969444
A27: - вода і водовідведення | B27: =[1]Виконком!D24 -> 0.41 | C27: =B27/$B$51*1000 -> 0.003685824
A28: - матеріали | B28: =[1]Виконком!D25 -> 0 | C28: =B28/$B$51*1000 -> 0
A29: - інші витрати | B29: =[1]Виконком!D26 -> 25.55 | C29: =B29/$B$51*1000 -> 0.22968976
A30: 3. Адміністративні витрати, всього в т.ч.: | B30: =B31+B32+B33+B34+B35+B36+B37 -> 2275.71 | C30: =C31+C32+C33+C34+C35+C36+C37 -> 20.458211
A31: - оплата праці | B31: =[1]Виконком!D28 -> 1714.45 | C31: =B31/$B$51*1000 -> 15.412588
A32: - відрахування на соціальні заходи | B32: =[1]Виконком!D29 -> 377.18 | C32: =B32/$B$51*1000 -> 3.3907782
A33: - амортизаційні відрахування | B33: =[1]Виконком!D30 -> 8.12 | C33: =B33/$B$51*1000 -> 0.072997294
A34: - електрична енергія | B34: =[1]Виконком!D31 -> 0.03 | C34: =B34/$B$51*1000 -> 0.00026969444
A35: - вода і водовідведення | B35: =[1]Виконком!D32 -> 1.14 | C35: =B35/$B$51*1000 -> 0.010248389
A36: - матеріали | B36: =[1]Виконком!D33 -> 0 | C36: =B36/$B$51*1000 -> 0
A37: - інши витрати | B37: =[1]Виконком!D34 -> 174.79 | C37: =B37/$B$51*1000 -> 1.5713297
A38: 4. Витрати на збут | B38: 0 | C38: 0
A39: 5. Інші операційні витрати | B39: =[1]Структ17!D35/1000 -> 0 | C39: 0
A40: 6. Фінансові витрати | B40: =[1]Виконком!D37 -> 180.22 | C40: =B40/$B$51*1000 -> 1.6201444
...

Sheet Бюджет + інші
A1: 3
A2: Додаток 1
A3: до рішення виконавчого комітету
A4: від _____________2018 р. № ______
A5: Скориговані тарифи на теплову енергію, вироблену котельнями з використанням природного газу, яку надає КП "Теплокомуненерго" для бюджетних установ та інших споживачів (крім населення)
A6: Показники | B6: Для потреб бюджетних організацій | D6: Для потреб інших споживачів (крім населення)
B7: тис.грн. на рік | C7: грн./Гкал | D7: тис.грн. на рік | E7: грн./Гкал
A8: 1 | B8: 2 | C8: 3 | D8: 4 | E8: 5
A9: 1. Повна планова собівартість, всього: | B9: =B10+B22 -> 26509.39 | C9: 1636.477 | D9: =D10+D22 -> 4990.37 | E9: =E10+E22 -> 1637.5506
A10: 1.1. Прямі витрати, в тому числі: | B10: =B11+B17 -> 26449.99 | C10: 1632.81 | D10: =D11+D17 -> 4979.19 | E10: =E11+E17 -> 1633.882
A11: 1.1.1. Матеріальні витрати: | B11: =B12+B13+B14+B15+B16 -> 24032.94 | C11: =C12+C13+C14+C15+C16 -> 1483.6018 | D11: =D12+D13+D14+D15+D16 -> 4524.48 | E11: =E12+E13+E14+E15+E16 -> 1484.6725
A12: - природний газ | B12: =[1]Виконком!E9 -> 22337.65 | C12: =B12/$B$51*1000 -> 1378.9481 | D12: =[1]Виконком!F9 -> 4205.55 | E12: =D12/$D$51*1000 -> 1380.0181
A13: - електрична енергія | B13: =[1]Виконком!E10 -> 1458.91 | C13: =B13/$B$51*1000 -> 90.061454 | D13: =[1]Виконком!F10 -> 274.46 | E13: =D13/$D$51*1000 -> 90.061888
A14: - собівартість КГУ | B14: =[1]Виконком!E11 -> 0 | C14: =B14/$B$51*1000 -> 0 | D14: =[1]Виконком!F11 -> 0 | E14: =D14/$D$51*1000 -> 0
A15: - вода і водовідведення | B15: =[1]Виконком!E12 -> 104.48 | C15: =B15/$B$51*1000 -> 6.4497609 | D15: =[1]Виконком!F12 -> 19.66 | E15: =D15/$D$51*1000 -> 6.4512742
A16: - матеріали для забезп. техн. процесу (х/р) | B16: =[1]Виконком!E13 -> 131.9 | C16: =B16/$B$51*1000 -> 8.1424528 | D16: =[1]Виконком!F13 -> 24.81 | E16: =D16/$D$51*1000 -> 8.1412061
A17: 1.2. Інші прямі витрати: | B17: =B18+B19+B20+B21 -> 2417.05 | C17: =C18+C19+C20+C21 -> 149.20937 | D17: =D18+D19+D20+D21 -> 454.71 | E17: =E18+E19+E20+E21 -> 149.20951
A18: - оплата праці | B18: =[1]Виконком!E15 -> 1698.99 | C18: =B18/$B$51*1000 -> 104.88208 | D18: =[1]Виконком!F15 -> 319.62 | E18: =D18/$D$51*1000 -> 104.88079
A19: - відрахування на соціальні заходи | B19: =[1]Виконком!E16 -> 373.78 | C19: =B19/$B$51*1000 -> 23.074193 | D19: =[1]Виконком!F16 -> 70.32 | E19: =D19/$D$51*1000 -> 23.074954
A20: - амортизаційні відрахування | B20: =[1]Виконком!E17 -> 195.8 | C20: =B20/$B$51*1000 -> 12.087129 | D20: =[1]Виконком!F17 -> 36.84 | E20: =D20/$D$51*1000 -> 12.088756
A21: - інші прямі витрати: | B21: =[1]Виконком!E18 -> 148.48 | C21: =B21/$B$51*1000 -> 9.1659696 | D21: =[1]Виконком!F18 -> 27.93 | E21: =D21/$D$51*1000 -> 9.1650095
A22: 2. Загальновиробничі витрати, всього: | B22: =B23+B24+B25+B26+B27+B28+B29 -> 59.4 | C22: =C23+C24+C25+C26+C27+C28+C29 -> 3.6668817 | D22: =D23+D24+D25+D26+D27+D28+D29 -> 11.18 | E22: =E23+E24+E25+E26+E27+E28+E29 -> 3.668629
A23: - оплата праці | B23: =[1]Виконком!E20 -> 45.17 | C23: =B23/$B$51*1000 -> 2.7884351 | D23: =[1]Виконком!F20 -> 8.5 | E23: =D23/$D$51*1000 -> 2.7892081
A24: - відрахування на соціальні заходи | B24: =[1]Виконком!E21 -> 9.94 | C24: =B24/$B$51*1000 -> 0.61361623 | D24: =[1]Виконком!F21 -> 1.87 | E24: =D24/$D$51*1000 -> 0.61362577
A25: - амортизаційні відрахування | B25: =[1]Виконком!E22 -> 0.51 | C25: =B25/$B$51*1000 -> 0.031483328 | D25: =[1]Виконком!F22 -> 0.1 | E25: =D25/$D$51*1000 -> 0.032814212
A26: - електрична енергія | B26: =[1]Виконком!E23 -> 0 | C26: =B26/$B$51*1000 -> 0 | D26: =[1]Виконком!F23 -> 0 | E26: =D26/$D$51*1000 -> 0
A27: - вода і водовідведення | B27: =[1]Виконком!E24 -> 0.06 | C27: =B27/$B$51*1000 -> 0.0037039209 | D27: =[1]Виконком!F24 -> 0.01 | E27: =D27/$D$51*1000 -> 0.0032814212
A28: - матеріали | B28: =[1]Виконком!E25 -> 0 | C28: =B28/$B$51*1000 -> 0 | D28: =[1]Виконком!F25 -> 0 | E28: =D28/$D$51*1000 -> 0
A29: - інші витрати | B29: =[1]Виконком!E26 -> 3.72 | C29: =B29/$B$51*1000 -> 0.2296431 | D29: =[1]Виконком!F26 -> 0.7 | E29: =D29/$D$51*1000 -> 0.22969949
A30: 3. Адміністративні витрати, всього в т.ч.: | B30: =B31+B32+B33+B34+B35+B36+B37 -> 331.4 | C30: =C31+C32+C33+C34+C35+C36+C37 -> 20.45799 | D30: =D31+D32+D33+D34+D35+D36+D37 -> 62.34 | E30: 20.457
A31: - оплата праці | B31: =[1]Виконком!E28 -> 249.67 | C31: =B31/$B$51*1000 -> 15.412632 | D31: =[1]Виконком!F28 -> 46.97 | E31: =D31/$D$51*1000 -> 15.412836
A32: - відрахування на соціальні заходи | B32: =[1]Виконком!E29 -> 54.93 | C32: =B32/$B$51*1000 -> 3.3909396 | D32: =[1]Виконком!F29 -> 10.33 | E32: =D32/$D$51*1000 -> 3.3897082
A33: - амортизаційні відрахування | B33: =[1]Виконком!E30 -> 1.18 | C33: =B33/$B$51*1000 -> 0.072843778 | D33: =[1]Виконком!F30 -> 0.22 | E33: =D33/$D$51*1000 -> 0.072191267
A34: - електрична енергія | B34: =[1]Виконком!E31 -> 0 | C34: =B34/$B$51*1000 -> 0 | D34: =[1]Виконком!F31 -> 0 | E34: =D34/$D$51*1000 -> 0
A35: - вода і водовідведення | B35: =[1]Виконком!E32 -> 0.17 | C35: =B35/$B$51*1000 -> 0.010494443 | D35: =[1]Виконком!F32 -> 0.03 | E35: =D35/$D$51*1000 -> 0.0098442637
A36: - матеріали | B36: =[1]Виконком!E33 -> 0 | C36: =B36/$B$51*1000 -> 0 | D36: =[1]Виконком!F33 -> 0 | E36: =D36/$D$51*1000 -> 0
A37: - інши витрати | B37: =[1]Виконком!E34 -> 25.45 | C37: =B37/$B$51*1000 -> 1.5710798 | D37: =[1]Виконком!F34 -> 4.79 | E37: =D37/$D$51*1000 -> 1.5718008
A38: 4. Витрати на збут | B38: 0 | C38: 0 | D38: 0 | E38: 0
A39: 5. Інші операційні витрати | B39: =[1]Структ17!D35/1000 -> 0 | C39: 0 | D39: =[1]Структ17!F35/1000 -> 0 | E39: 0
A40: 6. Фінансові витрати | B40: =[1]Виконком!E37 -> 26.25 | C40: =B40/$B$51*1000 -> 1.6204654 | D40: =[1]Виконком!F37 -> 4.94 | E40: =D40/$D$51*1000 -> 1.6210221
...

Sheet Лист2

Sheet Лист3
