Workbook

Sheet Реєстр

Sheet Населення
A1: 3
A2: Додаток 1
A3: до рішення виконавчого комітету
A4: від _____________2018 р. № ______
A5: Скориговані тарифи на теплову енергію, вироблену котельнями з використанням природного газу, яку надає КП "Теплокомуненерго" для населення
A6: Показники | B6: Для потреб населення
B7: тис.грн./ на рік | C7: грн./Гкал
A8: 1 | B8: 2 | C8: 3
A9: 1. Повна планова собівартість, всього: | B9: =B10+B22 -> 126282.81 | C9: 1135.26
A10: 1.1. Прямі витрати, в тому числі: | B10: =B11+B17 -> 125874.84 | C10: =C11+C17 -> 1131.5909
A11: 1.1.1. Матеріальні витрати: | B11: =B12+B13+B14+B15+B16 -> 109277.29 | C11: 982.382
A12: - природний газ | B12: =[1]Виконком!D9 -> 97635.94 | C12: =B12/$B$51*1000 -> 877.72899
A13: - електрична енергія | B13: =[1]Виконком!D10 -> 10018.16 | C13: =B13/$B$51*1000 -> 90.0614
A14: - собівартість КГУ | B14: =[1]Виконком!D11 -> 0 | C14: =B14/$B$51*1000 -> 0
A15: - вода і водовідведення | B15: =[1]Виконком!D12 -> 717.47 | C15: =B15/$B$51*1000 -> 6.4499222
A16: - матеріали для забезп. техн. процесу (х/р) | B16: =[1]Виконком!D13 -> 905.72 | C16: =B16/$B$51*1000 -> 8.1422548
A17: 1.2. Інші прямі витрати: | B17: =B18+B19+B20+B21 -> 16597.55 | C17: =C18+C19+C20+C21 -> 149.2089
A18: - оплата праці | B18: =[1]Виконком!D15 -> 11666.76 | C18: =B18/$B$51*1000 -> 104.88201
A19: - відрахування на соціальні заходи | B19: =[1]Виконком!D16 -> 2566.69 | C19: =B19/$B$51*1000 -> 23.074067
A20: - амортизаційні відрахування | B20: =[1]Виконком!D17 -> 1344.54 | C20: =B20/$B$51*1000 -> 12.087165
A21: - інші прямі витрати: | B21: =[1]Виконком!D18 -> 1019.56 | C21: =B21/$B$51*1000 -> 9.1656553
A22: 2. Загальновиробничі витрати, всього: | B22: =B23+B24+B25+B26+B27+B28+B29 -> 407.97 | C22: 3.669
A23: - оплата праці | B23: =[1]Виконком!D20 -> 310.21 | C23: =B23/$B$51*1000 -> 2.7887304
A24: - відрахування на соціальні заходи | B24: =[1]Виконком!D21 -> 68.25 | C24: =B24/$B$51*1000 -> 0.61355484
A25: - амортизаційні відрахування | B25: =[1]Виконком!D22 -> 3.52 | C25: =B25/$B$51*1000 -> 0.031644147
A26: - електрична енергія | B26: =[1]Виконком!D23 -> 0.03 | C26: =B26/$B$51*1000 -> 0.00026969444
A27: - вода і водовідведення | B27: =[1]Виконком!D24 -> 0.41 | C27: =B27/$B$51*1000 -> 0.003685824
A28: - матеріали | B28: =[1]Виконком!D25 -> 0 | C28: =B28/$B$51*1000 -> 0
A29: - інші витрати | B29: =[1]Виконком!D26 -> 25.55 | C29: =B29/$B$51*1000 -> 0.22968976
A30: 3. Адміністративні витрати, всього в т.ч.: | B30: =B31+B32+B33+B34+B35+B36+B37 -> 2275.71 | C30: =C31+C32+C33+C34+C35+C36+C37 -> 20.458211
A31: - оплата праці | B31: =[1]Виконком!D28 -> 1714.45 | C31: =B31/$B$51*1000 -> 15.412588
A32: - відрахування на соціальні заходи | B32: =[1]Виконком!D29 -> 377.18 | C32: =B32/$B$51*1000 -> 3.3907782
A33: - амортизаційні відрахування | B33: =[1]Виконком!D30 -> 8.12 | C33: =B33/$B$51*1000 -> 0.072997294
A34: - електрична енергія | B34: =[1]Виконком!D31 -> 0.03 | C34: =B34/$B$51*1000 -> 0.00026969444
A35: - вода і водовідведення | B35: =[1]Виконком!D32 -> 1.14 | C35: =B35/$B$51*1000 -> 0.010248389
A36: - матеріали | B36: =[1]Виконком!D33 -> 0 | C36: =B36/$B$51*1000 -> 0
A37: - інши витрати | B37: =[1]Виконком!D34 -> 174.79 | C37: =B37/$B$51*1000 -> 1.5713297
A38: 4. Витрати на збут | B38: 0 | C38: 0
A39: 5. Інші операційні витрати | B39: =[1]Структ17!D35/1000 -> 0 | C39: 0
A40: 6. Фінансові витрати | B40: =[1]Виконком!D37 -> 180.22 | C40: =B40/$B$51*1000 -> 1.6201444
A41: 7. Повна собівартість | B41: =B9+B30+B38+B39+B40 -> 128738.74 | C41: =C9+C30+C38+C39+C40 -> 1157.3384
A42: 8. Витрати на покриття втрат | B42: =[1]Виконком!D39 -> 0 | C42: =B42/$B$51*1000 -> 0
A43: 9. Розрахунковий прибуток, у т.ч. | B43: =B44+B45+B46+B47 -> 0 | C43: =C44+C45+C46+C47 -> 0
A44: - податок на прибуток | B44: =[1]Виконком!D41 -> 0 | C44: =B44/$B$51*1000 -> 0
A45: - резервний фонд (капітал) та дивіденди | B45: =[1]Виконком!D42 -> 0 | C45: =B45/$B$51*1000 -> 0
A46: - інше використання прибутку (погашення кредитної заборгованості) | B46: =[1]Виконком!D43 -> 0 | C46: =B46/$B$51*1000 -> 0
A47: - на розвиток виробництва (виробничі інвестиції) | B47: =[1]Виконком!D44 -> 0 | C47: =B47/$B$51*1000 -> 0
A48: 10. Вартість теплової енергії за відповідними тарифами (без ПДВ) | B48: =B43+B42+B41 -> 128738.74 | C48: =C43+C42+C41 -> 1157.3384
A49: 11. Тариф на теплову енергію (без ПДВ) | C49: =C48 -> 1157.3384
A50: 12. Тариф на теплову енергію (з ПДВ) | C50: =C49*1.2 -> 1388.806
A51: 13. Реалізація теплової енергії | B51: =[1]Виконком!D48 -> 111237
A52: 14. Рентабельність | B52: =B43/B41 -> 0 | C52: =C43/C41 -> 0
A54: Керуючий справами
A55: виконавчого комітету В. ЧЕБОТАРЬОВ
A56: 4
A57: Додаток 2
A58: до рішення виконавчого комітету
A59: від _____________2018 р. № ______
A60: Скориговані тарифи на виробництво теплової енергії котельнями з використанням природного газу КП "Теплокомуненерго" для населення
A61: Показники | B61: Для потреб населення
B62: тис.грн./на рік | C62: грн./Гкал
A63: 1 | B63: 2 | C63: 3
A64: 1. Повна планова собівартість, всього: | B64: =B65+B77 -> 119198.53 | C64: 1071.574
A65: 1.1. Прямі витрати, в тому числі: | B65: =B66+B72 -> 118812.05 | C65: 1068.099
A66: 1.1.1. Матеріальні витрати: | B66: =B67+B68+B69+B70+B71 -> 108638.44 | C66: =C67+C68+C69+C70+C71 -> 976.63943
A67: - природний газ | B67: =[1]Виконком!J9 -> 97635.94 | C67: =B67/$B$51*1000 -> 877.72899
A68: - електрична енергія | B68: =[1]Виконком!J10 -> 10018.16 | C68: =B68/$B$51*1000 -> 90.0614
A69: - собівартість КГУ | B69: =[1]Виконком!J11 -> 0 | C69: =B69/$B$51*1000 -> 0
A70: - вода і водовідведення | B70: =[1]Виконком!J12 -> 706.49 | C70: =B70/$B$51*1000 -> 6.3512141
A71: - матеріали для забезп. техн. процесу (х/р) | B71: =[1]Виконком!J13 -> 277.85 | C71: =B71/$B$51*1000 -> 2.49782
A72: 1.2. Інші прямі витрати: | B72: =B73+B74+B75+B76 -> 10173.61 | C72: 91.46
A73: - оплата праці | B73: =[1]Виконком!J15 -> 7125.6 | C73: =B73/$B$51*1000 -> 64.057822
A74: - відрахування на соціальні заходи | B74: =[1]Виконком!J16 -> 1567.63 | C74: =B74/$B$51*1000 -> 14.092703
A75: - амортизаційні відрахування | B75: =[1]Виконком!J17 -> 839.47 | C75: =B75/$B$51*1000 -> 7.5466796
A76: - інші прямі витрати: | B76: =[1]Виконком!J18 -> 640.91 | C76: =B76/$B$51*1000 -> 5.761662
A77: 2. Загальновиробничі витрати, всього: | B77: =B78+B79+B80+B81+B82+B83+B84 -> 386.48 | C77: 3.475
A78: - оплата праці | B78: =[1]Виконком!J20 -> 293.87 | C78: =B78/$B$51*1000 -> 2.6418368
A79: - відрахування на соціальні заходи | B79: =[1]Виконком!J21 -> 64.65 | C79: =B79/$B$51*1000 -> 0.58119151
A80: - амортизаційні відрахування | B80: =[1]Виконком!J22 -> 3.34 | C80: =B80/$B$51*1000 -> 0.030025981
A81: - електрична енергія | B81: =[1]Виконком!J23 -> 0.03 | C81: =B81/$B$51*1000 -> 0.00026969444
A82: - вода і водовідведення | B82: =[1]Виконком!J24 -> 0.39 | C82: =B82/$B$51*1000 -> 0.0035060277
A83: - матеріали | B83: =[1]Виконком!J25 -> 0 | C83: =B83/$B$51*1000 -> 0
A84: - інші витрати | B84: =[1]Виконком!J26 -> 24.2 | C84: =B84/$B$51*1000 -> 0.21755351
A85: 3. Адміністративні витрати, всього в т.ч.: | B85: =B86+B87+B88+B89+B90+B91+B92 -> 2155.87 | C85: 19.382
A86: - оплата праці | B86: =[1]Виконком!J28 -> 1624.16 | C86: =B86/$B$51*1000 -> 14.600897
A87: - відрахування на соціальні заходи | B87: =[1]Виконком!J29 -> 357.32 | C87: =B87/$B$51*1000 -> 3.2122405
A88: - амортизаційні відрахування | B88: =[1]Виконком!J30 -> 7.7 | C88: =B88/$B$51*1000 -> 0.069221572
A89: - електрична енергія | B89: =[1]Виконком!J31 -> 0.03 | C89: =B89/$B$51*1000 -> 0.00026969444
A90: - вода і водовідведення | B90: =[1]Виконком!J32 -> 1.08 | C90: =B90/$B$51*1000 -> 0.0097089997
A91: - матеріали | B91: =[1]Виконком!J33 -> 0 | C91: =B91/$B$51*1000 -> 0
A92: - інши витрати | B92: =[1]Виконком!J34 -> 165.58 | C92: 1.49
A93: 4. Витрати на збут | B93: 0 | C93: 0
A94: 5. Інші операційні витрати | B94: =[1]Структ17!D91/1000 -> 1.62e-05 | C94: 0
A95: 6. Фінансові витрати | B95: =[1]Виконком!J37 -> 170.73 | C95: 1.537
A96: 7. Повна собівартість | B96: =B64+B85+B93+B94+B95 -> 121525.13 | C96: =C64+C85+C93+C94+C95 -> 1092.493
A97: 8. Витрати на покриття втрат | B97: =[1]Виконком!J39 -> 0 | C97: =B97/$B$51*1000 -> 0
A98: 9. Розрахунковий прибуток, у т.ч. | B98: =B99+B100+B101+B102 -> 0 | C98: =C99+C100+C101+C102 -> 0
A99: - податок на прибуток | B99: =[1]Виконком!D97 -> 0 | C99: =B99/$B$51*1000 -> 0
A100: - резервний фонд (капітал) та дивіденди | B100: =[1]Виконком!D98 -> 0 | C100: =B100/$B$51*1000 -> 0
A101: - інше використання прибутку (погашення кредитної заборгованості) | B101: =[1]Виконком!D99 -> 0 | C101: =B101/$B$51*1000 -> 0
...

Sheet Бюджет + інші
A1: 3
A2: Додаток 1
A3: до рішення виконавчого комітету
A4: від _____________2018 р. № ______
A5: Скориговані тарифи на теплову енергію, вироблену котельнями з використанням природного газу, яку надає КП "Теплокомуненерго" для бюджетних установ та інших споживачів (крім населення)
A6: Показники | B6: Для потреб бюджетних організацій | D6: Для потреб інших споживачів (крім населення)
B7: тис.грн. на рік | C7: грн./Гкал | D7: тис.грн. на рік | E7: грн./Гкал
A8: 1 | B8: 2 | C8: 3 | D8: 4 | E8: 5
A9: 1. Повна планова собівартість, всього: | B9: =B10+B22 -> 26509.39 | C9: 1636.477 | D9: =D10+D22 -> 4990.37 | E9: =E10+E22 -> 1637.5506
A10: 1.1. Прямі витрати, в тому числі: | B10: =B11+B17 -> 26449.99 | C10: 1632.81 | D10: =D11+D17 -> 4979.19 | E10: =E11+E17 -> 1633.882
A11: 1.1.1. Матеріальні витрати: | B11: =B12+B13+B14+B15+B16 -> 24032.94 | C11: =C12+C13+C14+C15+C16 -> 1483.6018 | D11: =D12+D13+D14+D15+D16 -> 4524.48 | E11: =E12+E13+E14+E15+E16 -> 1484.6725
A12: - природний газ | B12: =[1]Виконком!E9 -> 22337.65 | C12: =B12/$B$51*1000 -> 1378.9481 | D12: =[1]Виконком!F9 -> 4205.55 | E12: =D12/$D$51*1000 -> 1380.0181
A13: - електрична енергія | B13: =[1]Виконком!E10 -> 1458.91 | C13: =B13/$B$51*1000 -> 90.061454 | D13: =[1]Виконком!F10 -> 274.46 | E13: =D13/$D$51*1000 -> 90.061888
A14: - собівартість КГУ | B14: =[1]Виконком!E11 -> 0 | C14: =B14/$B$51*1000 -> 0 | D14: =[1]Виконком!F11 -> 0 | E14: =D14/$D$51*1000 -> 0
A15: - вода і водовідведення | B15: =[1]Виконком!E12 -> 104.48 | C15: =B15/$B$51*1000 -> 6.4497609 | D15: =[1]Виконком!F12 -> 19.66 | E15: =D15/$D$51*1000 -> 6.4512742
A16: - матеріали для забезп. техн. процесу (х/р) | B16: =[1]Виконком!E13 -> 131.9 | C16: =B16/$B$51*1000 -> 8.1424528 | D16: =[1]Виконком!F13 -> 24.81 | E16: =D16/$D$51*1000 -> 8.1412061
A17: 1.2. Інші прямі витрати: | B17: =B18+B19+B20+B21 -> 2417.05 | C17: =C18+C19+C20+C21 -> 149.20937 | D17: =D18+D19+D20+D21 -> 454.71 | E17: =E18+E19+E20+E21 -> 149.20951
A18: - оплата праці | B18: =[1]Виконком!E15 -> 1698.99 | C18: =B18/$B$51*1000 -> 104.88208 | D18: =[1]Виконком!F15 -> 319.62 | E18: =D18/$D$51*1000 -> 104.88079
A19: - відрахування на соціальні заходи | B19: =[1]Виконком!E16 -> 373.78 | C19: =B19/$B$51*1000 -> 23.074193 | D19: =[1]Виконком!F16 -> 70.32 | E19: =D19/$D$51*1000 -> 23.074954
A20: - амортизаційні відрахування | B20: =[1]Виконком!E17 -> 195.8 | C20: =B20/$B$51*1000 -> 12.087129 | D20: =[1]Виконком!F17 -> 36.84 | E20: =D20/$D$51*1000 -> 12.088756
A21: - інші прямі витрати: | B21: =[1]Виконком!E18 -> 148.48 | C21: =B21/$B$51*1000 -> 9.1659696 | D21: =[1]Виконком!F18 -> 27.93 | E21: =D21/$D$51*1000 -> 9.1650095
A22: 2. Загальновиробничі витрати, всього: | B22: =B23+B24+B25+B26+B27+B28+B29 -> 59.4 | C22: =C23+C24+C25+C26+C27+C28+C29 -> 3.6668817 | D22: =D23+D24+D25+D26+D27+D28+D29 -> 11.18 | E22: =E23+E24+E25+E26+E27+E28+E29 -> 3.668629
A23: - оплата праці | B23: =[1]Виконком!E20 -> 45.17 | C23: =B23/$B$51*1000 -> 2.7884351 | D23: =[1]Виконком!F20 -> 8.5 | E23: =D23/$D$51*1000 -> 2.7892081
A24: - відрахування на соціальні заходи | B24: =[1]Виконком!E21 -> 9.94 | C24: =B24/$B$51*1000 -> 0.61361623 | D24: =[1]Виконком!F21 -> 1.87 | E24: =D24/$D$51*1000 -> 0.61362577
A25: - амортизаційні відрахування | B25: =[1]Виконком!E22 -> 0.51 | C25: =B25/$B$51*1000 -> 0.031483328 | D25: =[1]Виконком!F22 -> 0.1 | E25: =D25/$D$51*1000 -> 0.032814212
A26: - електрична енергія | B26: =[1]Виконком!E23 -> 0 | C26: =B26/$B$51*1000 -> 0 | D26: =[1]Виконком!F23 -> 0 | E26: =D26/$D$51*1000 -> 0
A27: - вода і водовідведення | B27: =[1]Виконком!E24 -> 0.06 | C27: =B27/$B$51*1000 -> 0.0037039209 | D27: =[1]Виконком!F24 -> 0.01 | E27: =D27/$D$51*1000 -> 0.0032814212
A28: - матеріали | B28: =[1]Виконком!E25 -> 0 | C28: =B28/$B$51*1000 -> 0 | D28: =[1]Виконком!F25 -> 0 | E28: =D28/$D$51*1000 -> 0
A29: - інші витрати | B29: =[1]Виконком!E26 -> 3.72 | C29: =B29/$B$51*1000 -> 0.2296431 | D29: =[1]Виконком!F26 -> 0.7 | E29: =D29/$D$51*1000 -> 0.22969949
A30: 3. Адміністративні витрати, всього в т.ч.: | B30: =B31+B32+B33+B34+B35+B36+B37 -> 331.4 | C30: =C31+C32+C33+C34+C35+C36+C37 -> 20.45799 | D30: =D31+D32+D33+D34+D35+D36+D37 -> 62.34 | E30: 20.457
A31: - оплата праці | B31: =[1]Виконком!E28 -> 249.67 | C31: =B31/$B$51*1000 -> 15.412632 | D31: =[1]Виконком!F28 -> 46.97 | E31: =D31/$D$51*1000 -> 15.412836
A32: - відрахування на соціальні заходи | B32: =[1]Виконком!E29 -> 54.93 | C32: =B32/$B$51*1000 -> 3.3909396 | D32: =[1]Виконком!F29 -> 10.33 | E32: =D32/$D$51*1000 -> 3.3897082
A33: - амортизаційні відрахування | B33: =[1]Виконком!E30 -> 1.18 | C33: =B33/$B$51*1000 -> 0.072843778 | D33: =[1]Виконком!F30 -> 0.22 | E33: =D33/$D$51*1000 -> 0.072191267
A34: - електрична енергія | B34: =[1]Виконком!E31 -> 0 | C34: =B34/$B$51*1000 -> 0 | D34: =[1]Виконком!F31 -> 0 | E34: =D34/$D$51*1000 -> 0
A35: - вода і водовідведення | B35: =[1]Виконком!E32 -> 0.17 | C35: =B35/$B$51*1000 -> 0.010494443 | D35: =[1]Виконком!F32 -> 0.03 | E35: =D35/$D$51*1000 -> 0.0098442637
A36: - матеріали | B36: =[1]Виконком!E33 -> 0 | C36: =B36/$B$51*1000 -> 0 | D36: =[1]Виконком!F33 -> 0 | E36: =D36/$D$51*1000 -> 0
A37: - інши витрати | B37: =[1]Виконком!E34 -> 25.45 | C37: =B37/$B$51*1000 -> 1.5710798 | D37: =[1]Виконком!F34 -> 4.79 | E37: =D37/$D$51*1000 -> 1.5718008
A38: 4. Витрати на збут | B38: 0 | C38: 0 | D38: 0 | E38: 0
A39: 5. Інші операційні витрати | B39: =[1]Структ17!D35/1000 -> 0 | C39: 0 | D39: =[1]Структ17!F35/1000 -> 0 | E39: 0
A40: 6. Фінансові витрати | B40: =[1]Виконком!E37 -> 26.25 | C40: =B40/$B$51*1000 -> 1.6204654 | D40: =[1]Виконком!F37 -> 4.94 | E40: =D40/$D$51*1000 -> 1.6210221
A41: 7. Повна собівартість | B41: =B9+B30+B38+B39+B40 -> 26867.04 | C41: =C9+C30+C38+C39+C40 -> 1658.5555 | D41: =D9+D30+D38+D39+D40 -> 5057.65 | E41: =E9+E30+E38+E39+E40 -> 1659.6286
A42: 8. Витрати на покриття втрат | B42: =[1]Виконком!E39 -> 0 | C42: =B42/$B$51*1000 -> 0 | D42: =[1]Виконком!F39 -> 0 | E42: =D42/$D$51*1000 -> 0
A43: 9. Розрахунковий прибуток, у т.ч. | B43: =B44+B45+B46+B47 -> 0 | C43: =C44+C45+C46+C47 -> 0 | D43: =D44+D45+D46+D47 -> 0 | E43: =E44+E45+E46+E47 -> 0
A44: - податок на прибуток | B44: =[1]Виконком!E41 -> 0 | C44: =B44/$B$51*1000 -> 0 | D44: =[1]Виконком!F41 -> 0 | E44: =D44/$D$51*1000 -> 0
A45: - резервний фонд (капітал) та дивіденди | B45: =[1]Виконком!E42 -> 0 | C45: =B45/$B$51*1000 -> 0 | D45: =[1]Виконком!F42 -> 0 | E45: =D45/$D$51*1000 -> 0
A46: - інше використання прибутку (погашення кредитної заборгованості) | B46: =[1]Виконком!E43 -> 0 | C46: =B46/$B$51*1000 -> 0 | D46: =[1]Виконком!F43 -> 0 | E46: =D46/$D$51*1000 -> 0
A47: - на розвиток виробництва (виробничі інвестиції) | B47: =[1]Виконком!E44 -> 0 | C47: =B47/$B$51*1000 -> 0 | D47: =[1]Виконком!F44 -> 0 | E47: =D47/$D$51*1000 -> 0
A48: 10. Вартість теплової енергії за відповідними тарифами (без ПДВ) | B48: =B43+B42+B41 -> 26867.04 | C48: =C43+C42+C41 -> 1658.5555 | D48: =D43+D42+D41 -> 5057.65 | E48: =E43+E42+E41 -> 1659.6286
A49: 11. Тариф на теплову енергію (без ПДВ) | C49: =C48 -> 1658.5555 | E49: =E48 -> 1659.6286
A50: 12. Тариф на теплову енергію (з ПДВ) | C50: =C49*1.2 -> 1990.2665 | E50: =E49*1.2+0.01 -> 1991.5644
A51: 13. Реалізація теплової енергії | B51: =[1]Виконком!E48 -> 16199.05 | D51: =[1]Виконком!F48 -> 3047.46
A52: 14. Рентабельність | B52: =B43/B41 -> 0 | C52: =C43/C41 -> 0 | D52: =D43/D41 -> 0 | E52: =E43/E41 -> 0
A54: Керуючий справами
A55: виконавчого комітету В. ЧЕБОТАРЬОВ
A57: 4
A58: Додаток 2
A59: до рішення виконавчого комітету
A60: від _____________2018 р. № ______
A61: Скориговані тарифи на виробництво теплової енергії котельнями з використанням природного газу КП "Теплокомуненерго" для бюджетних установ та інших споживачів (крім населення)
A62: Показники | B62: Для потреб бюджетних організацій | D62: Для потреб інших споживачів (крім населення)
B63: тис.грн. на рік | C63: грн./Гкал | D63: тис.грн. на рік | E63: грн./Гкал
A64: 1 | B64: 2 | C64: 3 | D64: 4 | E64: 5
A65: 1. Повна планова собівартість, всього: | B65: =B66+B78 -> 25477.74 | C65: 1572.793 | D65: =D66+D78 -> 4796.28 | E65: 1573.863
A66: 1.1. Прямі витрати, в тому числі: | B66: =B67+B73 -> 25421.45 | C66: =C67+C73 -> 1569.3173 | D66: =D67+D73 -> 4785.7 | E66: =E67+E73 -> 1570.3898
A67: 1.1.1. Матеріальні витрати: | B67: =B68+B69+B70+B71+B72 -> 23939.9 | C67: =C68+C69+C70+C71+C72 -> 1477.8583 | D67: =D68+D69+D70+D71+D72 -> 4506.98 | E67: =E68+E69+E70+E71+E72 -> 1478.93
A68: - природний газ | B68: =[1]Виконком!K9 -> 22337.65 | C68: =B68/$B$51*1000 -> 1378.9481 | D68: =[1]Виконком!L9 -> 4205.55 | E68: =D68/$D$51*1000 -> 1380.0181
A69: - електрична енергія | B69: =[1]Виконком!K10 -> 1458.91 | C69: =B69/$B$51*1000 -> 90.061454 | D69: =[1]Виконком!L10 -> 274.46 | E69: =D69/$D$51*1000 -> 90.061888
A70: - собівартість КГУ | B70: =[1]Виконком!K11 -> 0 | C70: =B70/$B$51*1000 -> 0 | D70: =[1]Виконком!L11 -> 0 | E70: =D70/$D$51*1000 -> 0
A71: - вода і водовідведення | B71: =[1]Виконком!K12 -> 102.88 | C71: =B71/$B$51*1000 -> 6.3509897 | D71: =[1]Виконком!L12 -> 19.36 | E71: =D71/$D$51*1000 -> 6.3528315
A72: - матеріали для забезп. техн. процесу (х/р) | B72: =[1]Виконком!K13 -> 40.46 | C72: =B72/$B$51*1000 -> 2.4976773 | D72: =[1]Виконком!L13 -> 7.61 | E72: =D72/$D$51*1000 -> 2.4971616
A73: 1.2. Інші прямі витрати: | B73: =B74+B75+B76+B77 -> 1481.55 | C73: =C74+C75+C76+C77 -> 91.459067 | D73: =D74+D75+D76+D77 -> 278.72 | E73: =E74+E75+E76+E77 -> 91.459773
A74: - оплата праці | B74: =[1]Виконком!K15 -> 1037.68 | C74: =B74/$B$51*1000 -> 64.058077 | D74: =[1]Виконком!L15 -> 195.21 | E74: =D74/$D$51*1000 -> 64.056624
A75: - відрахування на соціальні заходи | B75: =[1]Виконком!K16 -> 228.29 | C75: =B75/$B$51*1000 -> 14.092802 | D75: =[1]Виконком!L16 -> 42.95 | E75: =D75/$D$51*1000 -> 14.093704
A76: - амортизаційні відрахування | B76: =[1]Виконком!K17 -> 122.25 | C76: =B76/$B$51*1000 -> 7.5467389 | D76: =[1]Виконком!L17 -> 23 | E76: =D76/$D$51*1000 -> 7.5472689
A77: - інші прямі витрати: | B77: =[1]Виконком!K18 -> 93.33 | C77: =B77/$B$51*1000 -> 5.761449 | D77: =[1]Виконком!L18 -> 17.56 | E77: =D77/$D$51*1000 -> 5.7621757
A78: 2. Загальновиробничі витрати, всього: | B78: =B79+B80+B81+B82+B83+B84+B85 -> 56.29 | C78: =C79+C80+C81+C82+C83+C84+C85 -> 3.4755984 | D78: =D79+D80+D81+D82+D83+D84+D85 -> 10.58 | E78: 3.473
A79: - оплата праці | B79: =[1]Виконком!K20 -> 42.8 | C79: =B79/$B$51*1000 -> 2.6421302 | D79: =[1]Виконком!L20 -> 8.05 | E79: =D79/$D$51*1000 -> 2.6415441
A80: - відрахування на соціальні заходи | B80: =[1]Виконком!K21 -> 9.42 | C80: =B80/$B$51*1000 -> 0.58151558 | D80: =[1]Виконком!L21 -> 1.77 | E80: =D80/$D$51*1000 -> 0.58081156
A81: - амортизаційні відрахування | B81: =[1]Виконком!K22 -> 0.49 | C81: =B81/$B$51*1000 -> 0.030248687 | D81: =[1]Виконком!L22 -> 0.09 | E81: =D81/$D$51*1000 -> 0.029532791
A82: - електрична енергія | B82: =[1]Виконком!K23 -> 0 | C82: =B82/$B$51*1000 -> 0 | D82: =[1]Виконком!L23 -> 0 | E82: =D82/$D$51*1000 -> 0
A83: - вода і водовідведення | B83: =[1]Виконком!K24 -> 0.06 | C83: =B83/$B$51*1000 -> 0.0037039209 | D83: =[1]Виконком!L24 -> 0.01 | E83: =D83/$D$51*1000 -> 0.0032814212
A84: - матеріали | B84: =[1]Виконком!K25 -> 0 | C84: =B84/$B$51*1000 -> 0 | D84: =[1]Виконком!L25 -> 0 | E84: =D84/$D$51*1000 -> 0
A85: - інші витрати | B85: =[1]Виконком!K26 -> 3.52 | C85: 0.218 | D85: =[1]Виконком!L26 -> 0.66 | E85: =D85/$D$51*1000 -> 0.2165738
A86: 3. Адміністративні витрати, всього в т.ч.: | B86: =B87+B88+B89+B90+B91+B92+B93 -> 313.95 | C86: 19.383 | D86: =D87+D88+D89+D90+D91+D92+D93 -> 59.07 | E86: 19.384
A87: - оплата праці | B87: =[1]Виконком!K28 -> 236.52 | C87: =B87/$B$51*1000 -> 14.600856 | D87: =[1]Виконком!L28 -> 44.5 | E87: =D87/$D$51*1000 -> 14.602325
A88: - відрахування на соціальні заходи | B88: =[1]Виконком!K29 -> 52.04 | C88: =B88/$B$51*1000 -> 3.2125341 | D88: =[1]Виконком!L29 -> 9.79 | E88: =D88/$D$51*1000 -> 3.2125114
A89: - амортизаційні відрахування | B89: =[1]Виконком!K30 -> 1.12 | C89: =B89/$B$51*1000 -> 0.069139857 | D89: =[1]Виконком!L30 -> 0.21 | E89: =D89/$D$51*1000 -> 0.068909846
A90: - електрична енергія | B90: =[1]Виконком!K31 -> 0 | C90: =B90/$B$51*1000 -> 0 | D90: =[1]Виконком!L31 -> 0 | E90: =D90/$D$51*1000 -> 0
A91: - вода і водовідведення | B91: =[1]Виконком!K32 -> 0.16 | C91: =B91/$B$51*1000 -> 0.0098771224 | D91: =[1]Виконком!L32 -> 0.03 | E91: =D91/$D$51*1000 -> 0.0098442637
A92: - матеріали | B92: =[1]Виконком!K33 -> 0 | C92: =B92/$B$51*1000 -> 0 | D92: =[1]Виконком!L33 -> 0 | E92: =D92/$D$51*1000 -> 0
A93: - інши витрати | B93: =[1]Виконком!K34 -> 24.11 | C93: 1.49 | D93: =[1]Виконком!L34 -> 4.54 | E93: =D93/$D$51*1000 -> 1.4897652
A94: 4. Витрати на збут | B94: 0 | C94: 0 | D94: 0 | E94: 0
A95: 5. Інші операційні витрати | B95: =[1]Структ17!D91/1000 -> 1.62e-05 | C95: 0 | D95: =[1]Структ17!F91/1000 -> 0 | E95: 0
A96: 6. Фінансові витрати | B96: =[1]Виконком!K37 -> 24.86 | C96: 1.537 | D96: =[1]Виконком!L37 -> 4.68 | E96: =D96/$D$51*1000 -> 1.5357051
A97: 7. Повна собівартість | B97: =B65+B86+B94+B95+B96 -> 25816.55 | C97: =C65+C86+C94+C95+C96 -> 1593.713 | D97: =D65+D86+D94+D95+D96 -> 4860.03 | E97: =E65+E86+E94+E95+E96 -> 1594.7827
A98: 8. Витрати на покриття втрат | B98: =[1]Виконком!K39 -> 0 | C98: =B98/$B$51*1000 -> 0 | D98: =[1]Виконком!L39 -> 0 | E98: =D98/$D$51*1000 -> 0
A99: 9. Розрахунковий прибуток, у т.ч. | B99: =B100+B101+B102+B103 -> 0 | C99: =C100+C101+C102+C103 -> 0 | D99: =D100+D101+D102+D103 -> 0 | E99: =E100+E101+E102+E103 -> 0
A100: - податок на прибуток | B100: =[1]Виконком!K41 -> 0 | C100: =B100/$B$51*1000 -> 0 | D100: =[1]Виконком!L41 -> 0 | E100: =D100/$D$51*1000 -> 0
A101: - резервний фонд (капітал) та дивіденди | B101: =[1]Виконком!K42 -> 0 | C101: =B101/$B$51*1000 -> 0 | D101: =[1]Виконком!L42 -> 0 | E101: =D101/$D$51*1000 -> 0
A102: - інше використання прибутку (погашення кредитної заборгованості) | B102: =[1]Виконком!K43 -> 0 | C102: =B102/$B$51*1000 -> 0 | D102: =[1]Виконком!L43 -> 0 | E102: =D102/$D$51*1000 -> 0
...

Sheet Лист2

Sheet Лист3
